BEGIN:VCALENDAR
VERSION:2.0
CALSCALE:GREGORIAN
PRODID:-//Diputació de Barcelona//DibaCMS//EN
BEGIN:VEVENT
UID:5504
DTSTAMP:20260423T201905
DTSTART:20121031T000000
DTEND:20131031T000000
SUMMARY:ICV-EUiA organitza diumenge al Centre Cultural un homenatge a Gloria Fuertes
LOCATION:
METHOD:PUBLISH
X-WR-CALNAME:llagosta@llagosta.cat
X-WR-TIMEZONE:Europe/Madrid
DESCRIPTION:Iniciativa per Catalunya Verds i Esquerra Unida i Alternativa organitzen diumenge un homenatge a la poetessa Gloria Fuertes. L'acte es farà a partir de les 19 hores al Centre Cultural. Aquest serà el quart homenatge que la coalició fa a un poeta.
URI:https://www.llagosta.cat/actualitat/noticies/icv-euia-organitza-diumenge-al-centre-cultural-un-homenatge-a-gloria-fuertes.html
CLASS:PUBLIC
END:VEVENT
END:VCALENDAR
