BEGIN:VCALENDAR
VERSION:2.0
CALSCALE:GREGORIAN
PRODID:-//Diputació de Barcelona//DibaCMS//EN
BEGIN:VEVENT
UID:5503
DTSTAMP:20260423T131252
DTSTART:20121031T000000
DTEND:20131031T000000
SUMMARY:L'Okinawa Team aconsegueix vuit medalles al tercer Open Catalunya 
LOCATION:
METHOD:PUBLISH
X-WR-CALNAME:llagosta@llagosta.cat
X-WR-TIMEZONE:Europe/Madrid
DESCRIPTION:El gimnàs Okinawa Team de la Llagosta ha fet vuit podis al tercer Open de Catalunya de Karate Goshin-do. La competició es va celebrar dissabte passat a Mollet del Vallès.
URI:https://www.llagosta.cat/actualitat/noticies/lokinawa-team-aconsegueix-vuit-medalles-al-tercer-open-catalunya-.html
CLASS:PUBLIC
END:VEVENT
END:VCALENDAR
