BEGIN:VCALENDAR
VERSION:2.0
CALSCALE:GREGORIAN
PRODID:-//Diputació de Barcelona//DibaCMS//EN
BEGIN:VEVENT
UID:5502
DTSTAMP:20260424T081604
DTSTART:20121031T000000
DTEND:20131031T000000
SUMMARY:L'EBC la Llagosta perd contra el Parets el tercer partit de la temporada (69-77)
LOCATION:
METHOD:PUBLISH
X-WR-CALNAME:llagosta@llagosta.cat
X-WR-TIMEZONE:Europe/Madrid
DESCRIPTION:El sènior de l'Esportiu Bàsquet Club la Llagosta va perdre la jornada passada davant el Parets per 69 a 77. Els llagostencs van patir les baixes que tenien i no van poder superar el seu rival, que es va mostrar molt efectiu al darrer quart.
URI:https://www.llagosta.cat/actualitat/noticies/lebc-la-llagosta-perd-contra-el-parets-el-tercer-partit-de-la-temporada-69-77.html
CLASS:PUBLIC
END:VEVENT
END:VCALENDAR
