BEGIN:VCALENDAR
VERSION:2.0
CALSCALE:GREGORIAN
PRODID:-//Diputació de Barcelona//DibaCMS//EN
BEGIN:VEVENT
UID:5501
DTSTAMP:20260423T220448
DTSTART:20121031T000000
DTEND:20131031T000000
SUMMARY:El Joventut Handbol la Llagosta guanya el Santpedor (15 a 26) i són líders
LOCATION:
METHOD:PUBLISH
X-WR-CALNAME:llagosta@llagosta.cat
X-WR-TIMEZONE:Europe/Madrid
DESCRIPTION:El Joventut Handbol la Llagosta va guanyar el segon partit de lliga disputat el cap de setmana passat a la pista del Santpedor. Els de la nostra localitat van vèncer per 15 a 26. La propera jornada rebran al Cerdanyola.
URI:https://www.llagosta.cat/actualitat/noticies/el-joventut-handbol-la-llagosta-guanya-el-santpedor-15-a-26-i-son-liders.html
CLASS:PUBLIC
END:VEVENT
END:VCALENDAR
