BEGIN:VCALENDAR
VERSION:2.0
CALSCALE:GREGORIAN
PRODID:-//Diputació de Barcelona//DibaCMS//EN
BEGIN:VEVENT
UID:5500
DTSTAMP:20260423T150309
DTSTART:20121031T000000
DTEND:20131003T000000
SUMMARY:Avui surt al carrer el Butlletí d'Informació Municipal corresponent al mes de novembre
LOCATION:
METHOD:PUBLISH
X-WR-CALNAME:llagosta@llagosta.cat
X-WR-TIMEZONE:Europe/Madrid
DESCRIPTION:L'Ajuntament de la Llagosta distribuirà divendres el Butlletí d'Informació Municipal del mes de novembre. La publicació recull en portada un resum del darrer ple ordinari en el qual es van aprovar les ordenances fiscals de 2013.
URI:https://www.llagosta.cat/actualitat/noticies/avui-surt-al-carrer-el-butlleti-dinformacio-municipal-corresponent-al-mes-de-novembre.html
CLASS:PUBLIC
END:VEVENT
END:VCALENDAR
