BEGIN:VCALENDAR
VERSION:2.0
CALSCALE:GREGORIAN
PRODID:-//Diputació de Barcelona//DibaCMS//EN
BEGIN:VEVENT
UID:5499
DTSTAMP:20260424T015707
DTSTART:20121030T000000
DTEND:20131030T000000
SUMMARY:La Llagosta celebrarà demà la festa de la Castanyada amb diverses activitats
LOCATION:
METHOD:PUBLISH
X-WR-CALNAME:llagosta@llagosta.cat
X-WR-TIMEZONE:Europe/Madrid
DESCRIPTION:Demà, vigília de Tots Sants, la Llagosta acollirà tot un seguit d'activitats organitzades per l'Ajuntament i entitats de la nostra localitat per celebrar la Castanyada i la festa de Halloween. La plaça d'Antoni Baqué, el Mercat Municipal, la plaça de la Masia i el local de l'Asociación Rociera Andaluza són els escenaris que acolliran algun dels actes programats.
URI:https://www.llagosta.cat/actualitat/noticies/la-llagosta-celebrara-dema-la-festa-de-la-castanyada-amb-diverses-activitats.html
CLASS:PUBLIC
END:VEVENT
END:VCALENDAR
