BEGIN:VCALENDAR
VERSION:2.0
CALSCALE:GREGORIAN
PRODID:-//Diputació de Barcelona//DibaCMS//EN
BEGIN:VEVENT
UID:5498
DTSTAMP:20260424T014951
DTSTART:20121030T000000
DTEND:20131030T000000
SUMMARY:La Policia Local deté un individu que intentava robar en un pis de la Llagosta
LOCATION:
METHOD:PUBLISH
X-WR-CALNAME:llagosta@llagosta.cat
X-WR-TIMEZONE:Europe/Madrid
DESCRIPTION:La Policia Local va detenir durant la matinada de dissabte una persona per un intent de robatori en un domicili del carrer de Jaume I de la Llagosta. Els fets van succeir cap a dos quarts de dues de la matinada.
URI:https://www.llagosta.cat/actualitat/noticies/la-policia-local-dete-un-individu-que-intentava-robar-en-un-pis-de-la-llagosta.html
CLASS:PUBLIC
END:VEVENT
END:VCALENDAR
