BEGIN:VCALENDAR
VERSION:2.0
CALSCALE:GREGORIAN
PRODID:-//Diputació de Barcelona//DibaCMS//EN
BEGIN:VEVENT
UID:5497
DTSTAMP:20260423T235725
DTSTART:20121030T000000
DTEND:20131030T000000
SUMMARY:Aquesta setmana, el mercat ambulant se celebrarà demà dimecres en ser dijous festiu
LOCATION:
METHOD:PUBLISH
X-WR-CALNAME:llagosta@llagosta.cat
X-WR-TIMEZONE:Europe/Madrid
DESCRIPTION:El mercat setmanal ambulant de la Llagosta se celebrarà demà dimecres, ja que dijous és dia festiu. Per aquest motiu, els cotxes no podran estacionar des de primera hora del matí de demà dimecres als carrers on s'instal·len habitualment les parades del mercat.
URI:https://www.llagosta.cat/actualitat/noticies/aquesta-setmana-el-mercat-ambulant-se-celebrara-dema-dimecres-en-ser-dijous-festiu.html
CLASS:PUBLIC
END:VEVENT
END:VCALENDAR
