BEGIN:VCALENDAR
VERSION:2.0
CALSCALE:GREGORIAN
PRODID:-//Diputació de Barcelona//DibaCMS//EN
BEGIN:VEVENT
UID:5496
DTSTAMP:20260424T000053
DTSTART:20121030T000000
DTEND:20131030T000000
SUMMARY:El Vallag perd en liderat en encaixar la primera derrota a la pista del Polinyà
LOCATION:
METHOD:PUBLISH
X-WR-CALNAME:llagosta@llagosta.cat
X-WR-TIMEZONE:Europe/Madrid
DESCRIPTION:L'Handbol Club Vallag de la Llagosta va patir la jornada passada la primera derrota de la temporada. Els llagostencs van caure per 35 a 29 contra el Polinyà. El conjunt de la nostra localitat ha perdut el liderat.
URI:https://www.llagosta.cat/actualitat/noticies/el-vallag-perd-en-liderat-en-encaixar-la-primera-derrota-a-la-pista-del-polinya.html
CLASS:PUBLIC
END:VEVENT
END:VCALENDAR
