BEGIN:VCALENDAR
VERSION:2.0
CALSCALE:GREGORIAN
PRODID:-//Diputació de Barcelona//DibaCMS//EN
BEGIN:VEVENT
UID:5495
DTSTAMP:20260423T170437
DTSTART:20121030T000000
DTEND:20131030T000000
SUMMARY:El Club Deportivo La Concòrdia derrota el Frederic Mistral i se situa líder en solitari
LOCATION:
METHOD:PUBLISH
X-WR-CALNAME:llagosta@llagosta.cat
X-WR-TIMEZONE:Europe/Madrid
DESCRIPTION:El primer equip del Club Deportivo La Concòrdia s'ha situat líder en solitari després de guanyar el cap de setmana passat per 4 a 2 el Frederic Mistral i de la derrota de l'AECS l'Hospitalet a la pista de l'Altafulla. El conjunt llagostenc va començar perdent el seu partit, però li va donar la volta al marcador abans del descans amb gols d'Estefa i Alba. Durant els primers minuts va ser expulsada Deborah.
URI:https://www.llagosta.cat/actualitat/noticies/el-club-deportivo-la-concordia-derrota-el-frederic-mistral-i-se-situa-lider-en-solitari.html
CLASS:PUBLIC
END:VEVENT
END:VCALENDAR
