BEGIN:VCALENDAR
VERSION:2.0
CALSCALE:GREGORIAN
PRODID:-//Diputació de Barcelona//DibaCMS//EN
BEGIN:VEVENT
UID:5494
DTSTAMP:20260423T131805
DTSTART:20121029T000000
DTEND:20131029T000000
SUMMARY:El Centre Cultural va acollir ahir l'homenatge pòstum a Antonia González
LOCATION:
METHOD:PUBLISH
X-WR-CALNAME:llagosta@llagosta.cat
X-WR-TIMEZONE:Europe/Madrid
DESCRIPTION:Més de 50 persones van assistir ahir a l'homenatge pòstum a Antonia González, Doña Antonia, que va organitzar un grup de llagostencs. Doña Antonia va ser la primera professora permanent que va tenir la Llagosta. L'acte es va fer al Centre Cultural.
URI:https://www.llagosta.cat/actualitat/noticies/el-centre-cultural-va-acollir-ahir-lhomenatge-postum-a-antonia-gonzalez.html
CLASS:PUBLIC
END:VEVENT
END:VCALENDAR
