BEGIN:VCALENDAR
VERSION:2.0
CALSCALE:GREGORIAN
PRODID:-//Diputació de Barcelona//DibaCMS//EN
BEGIN:VEVENT
UID:5493
DTSTAMP:20260424T091642
DTSTART:20121029T000000
DTEND:20131029T000000
SUMMARY:La Unión Llagostense encaixa la primera derrota de la temporada a Santa Eulàlia
LOCATION:
METHOD:PUBLISH
X-WR-CALNAME:llagosta@llagosta.cat
X-WR-TIMEZONE:Europe/Madrid
DESCRIPTION:El Fútbol Sala Unión Llagostense ha patit aquest cap de setmana la primera derrota de la temporada en perdre per 4 a 3 contra el Santa Eulàlia. Els de la nostra localitat es van presentar a la pista del rival amb baixes importants.
URI:https://www.llagosta.cat/actualitat/noticies/la-union-llagostense-encaixa-la-primera-derrota-de-la-temporada-a-santa-eulalia.html
CLASS:PUBLIC
END:VEVENT
END:VCALENDAR
