BEGIN:VCALENDAR
VERSION:2.0
CALSCALE:GREGORIAN
PRODID:-//Diputació de Barcelona//DibaCMS//EN
BEGIN:VEVENT
UID:5492
DTSTAMP:20260423T100034
DTSTART:20121029T000000
DTEND:20131029T000000
SUMMARY:El Viejas Glorias i el CE La Llagosta organitzaran diumenge un torneig per la Marató de TV3
LOCATION:
METHOD:PUBLISH
X-WR-CALNAME:llagosta@llagosta.cat
X-WR-TIMEZONE:Europe/Madrid
DESCRIPTION:El Club Deportivo Viejas Glorias i el Club Esportiu La Llagosta organitzaran diumenge al matí un torneig per recaptar fons per a la Marató de TV3. Els dos clubs celebraran un quadrangular, una rifa i altres activitats. 
URI:https://www.llagosta.cat/actualitat/noticies/el-viejas-glorias-i-el-ce-la-llagosta-organitzaran-diumenge-un-torneig-per-la-marato-de-tv3.html
CLASS:PUBLIC
END:VEVENT
END:VCALENDAR
