BEGIN:VCALENDAR
VERSION:2.0
CALSCALE:GREGORIAN
PRODID:-//Diputació de Barcelona//DibaCMS//EN
BEGIN:VEVENT
UID:5491
DTSTAMP:20260423T152320
DTSTART:20121029T000000
DTEND:20131029T000000
SUMMARY:El Viejas Glorias guanya al camp del Montmeló i suma el tercer triomf seguit
LOCATION:
METHOD:PUBLISH
X-WR-CALNAME:llagosta@llagosta.cat
X-WR-TIMEZONE:Europe/Madrid
DESCRIPTION:El Club Deportivo Viejas Glorias va vèncer ahir el Montmeló per 1 a 3. Aquesta és la tercera victòria consecutiva dels de la nostra localitat, que els permet mantenir-se a la part mitjana-alta de la taula, molt a prop dels primers classificats. 
URI:https://www.llagosta.cat/actualitat/noticies/el-viejas-glorias-guanya-al-camp-del-montmelo-i-suma-el-tercer-triomf-seguit.html
CLASS:PUBLIC
END:VEVENT
END:VCALENDAR
