BEGIN:VCALENDAR
VERSION:2.0
CALSCALE:GREGORIAN
PRODID:-//Diputació de Barcelona//DibaCMS//EN
BEGIN:VEVENT
UID:5490
DTSTAMP:20260424T053819
DTSTART:20121029T000000
DTEND:20131029T000000
SUMMARY:La Castanyada del Casal Infantil, ajornada la setmana passada, es farà demà
LOCATION:
METHOD:PUBLISH
X-WR-CALNAME:llagosta@llagosta.cat
X-WR-TIMEZONE:Europe/Madrid
DESCRIPTION:Demà, se celebrarà la Castanyada organitzada pel Casal Infantil, ajornada la setmana passada. La festa inclou diferents propostes com ara tallers, explicació de petites històries o rondalles, música i castanyes calentes. L'activitat servirà també per recaptar fons per a la Marató de TV3.
URI:https://www.llagosta.cat/actualitat/noticies/la-castanyada-del-casal-infantil-ajornada-la-setmana-passada-es-fara-dema.html
CLASS:PUBLIC
END:VEVENT
END:VCALENDAR
