BEGIN:VCALENDAR
VERSION:2.0
CALSCALE:GREGORIAN
PRODID:-//Diputació de Barcelona//DibaCMS//EN
BEGIN:VEVENT
UID:5489
DTSTAMP:20260423T220939
DTSTART:20121029T000000
DTEND:20131029T000000
SUMMARY:L'alcalde reclama a l'Autoritat del Transport Metropolità el desviament de la línia de trens R3
LOCATION:
METHOD:PUBLISH
X-WR-CALNAME:llagosta@llagosta.cat
X-WR-TIMEZONE:Europe/Madrid
DESCRIPTION:L'alcalde de la Llagosta, Alberto López, ha tornat a reclamar el desviament de la línia de trens R3, que uneix Barcelona amb Vic, i la connexió d'aquesta amb la R8, que va de Granollers a Martorell. López s'ha dirigit per carta a l'Autoritat del Transport Metropolità (ATM) de l'àrea de Barcelona per insistir en la necessitat d'aquesta modificació del traçat previst.
URI:https://www.llagosta.cat/actualitat/noticies/lalcalde-reclama-a-lautoritat-del-transport-metropolita-el-desviament-de-la-linia-de-trens-r3.html
CLASS:PUBLIC
END:VEVENT
END:VCALENDAR
