BEGIN:VCALENDAR
VERSION:2.0
CALSCALE:GREGORIAN
PRODID:-//Diputació de Barcelona//DibaCMS//EN
BEGIN:VEVENT
UID:5488
DTSTAMP:20260423T152514
DTSTART:20121026T000000
DTEND:20131012T000000
SUMMARY:Protesta davant de l'oficina d'Unnim del carrer de Sant Josep en contra dels desnonaments
LOCATION:
METHOD:PUBLISH
X-WR-CALNAME:llagosta@llagosta.cat
X-WR-TIMEZONE:Europe/Madrid
DESCRIPTION:Un grup de veïns es van concentrar ahir davant de l'oficina d'Unnim, al carrer de Sant Josep, per donar suport a tres famílies afectades per possibles desnonaments. L'acte estava convocat per la Plataforma d'Afectats per la Hipoteca de la Llagosta.
URI:https://www.llagosta.cat/actualitat/noticies/protesta-davant-de-loficina-dunnim-del-carrer-de-sant-josep-en-contra-dels-desnonaments.html
CLASS:PUBLIC
END:VEVENT
END:VCALENDAR
