BEGIN:VCALENDAR
VERSION:2.0
CALSCALE:GREGORIAN
PRODID:-//Diputació de Barcelona//DibaCMS//EN
BEGIN:VEVENT
UID:5487
DTSTAMP:20260423T130749
DTSTART:20121026T000000
DTEND:20131016T000000
SUMMARY:Treballadors de l'Ajuntament i de l'ambulatori es concentren contra les retallades
LOCATION:
METHOD:PUBLISH
X-WR-CALNAME:llagosta@llagosta.cat
X-WR-TIMEZONE:Europe/Madrid
DESCRIPTION:Treballadors de l'Ajuntament de la Llagosta han portat a terme aquest matí un nou acte de protesta a les portes de l'edifici administratiu, al passeig del Pintor Sert, en contra de les retallades que estan aplicant els governs central i autonòmic. Avui, s'ha sumat a la protesta personal de l'ambulatori de la Llagosta.
URI:https://www.llagosta.cat/actualitat/noticies/treballadors-de-lajuntament-i-de-lambulatori-es-concentren-contra-les-retallades.html
CLASS:PUBLIC
END:VEVENT
END:VCALENDAR
