BEGIN:VCALENDAR
VERSION:2.0
CALSCALE:GREGORIAN
PRODID:-//Diputació de Barcelona//DibaCMS//EN
BEGIN:VEVENT
UID:5486
DTSTAMP:20260424T015250
DTSTART:20121026T000000
DTEND:20131026T000000
SUMMARY:La Carpa de l'Institut Marina acollirà demà diversos actes per la Castanyada
LOCATION:
METHOD:PUBLISH
X-WR-CALNAME:llagosta@llagosta.cat
X-WR-TIMEZONE:Europe/Madrid
DESCRIPTION:Entitats de la nostra localitat celebraran demà la Castanyada a la carpa de l'Institut Marina. Durant el matí, es realitzaran activitats infantils. A la tarda es farà una exhibició de hip-hop i, a la nit, hi haurà una festa fins a dos quarts de tres.
URI:https://www.llagosta.cat/actualitat/noticies/la-carpa-de-linstitut-marina-acollira-dema-diversos-actes-per-la-castanyada.html
CLASS:PUBLIC
END:VEVENT
END:VCALENDAR
