BEGIN:VCALENDAR
VERSION:2.0
CALSCALE:GREGORIAN
PRODID:-//Diputació de Barcelona//DibaCMS//EN
BEGIN:VEVENT
UID:5485
DTSTAMP:20260424T015640
DTSTART:20121026T000000
DTEND:20131026T000000
SUMMARY:Antonio García haurà d'estar deu dies de baixa per lesió i no podrà jugar amb la selecció
LOCATION:
METHOD:PUBLISH
X-WR-CALNAME:llagosta@llagosta.cat
X-WR-TIMEZONE:Europe/Madrid
DESCRIPTION:El llagostenc Antonio García s'ha lesionat i no podrà jugar amb la selecció espanyola absoluta d'handbol els dos primers partits de la fase de classificació per al Campionat d'Europa de 2014. García va patir un petit trencament muscular durant el partit que va disputar dimecres amb el seu equip, el Paris Sant Germain, i haurà de descansar durant deu dies.
URI:https://www.llagosta.cat/actualitat/noticies/antonio-garcia-haura-destar-deu-dies-de-baixa-per-lesio-i-no-podra-jugar-amb-la-seleccio.html
CLASS:PUBLIC
END:VEVENT
END:VCALENDAR
