BEGIN:VCALENDAR
VERSION:2.0
CALSCALE:GREGORIAN
PRODID:-//Diputació de Barcelona//DibaCMS//EN
BEGIN:VEVENT
UID:5484
DTSTAMP:20260423T201458
DTSTART:20121026T000000
DTEND:20131026T000000
SUMMARY:L'Agrupació Sardanista celebrarà demà la Castanyada a la plaça d'Antoni Baqué
LOCATION:
METHOD:PUBLISH
X-WR-CALNAME:llagosta@llagosta.cat
X-WR-TIMEZONE:Europe/Madrid
DESCRIPTION:L'Agrupació Sardanista de la Llagosta celebrarà demà la tradicional Castanyada Sardanista. L’acte es farà a la plaça d’Antoni Baqué a partir de dos quarts de set. 
URI:https://www.llagosta.cat/actualitat/noticies/lagrupacio-sardanista-celebrara-dema-la-castanyada-a-la-placa-dantoni-baque.html
CLASS:PUBLIC
END:VEVENT
END:VCALENDAR
