BEGIN:VCALENDAR
VERSION:2.0
CALSCALE:GREGORIAN
PRODID:-//Diputació de Barcelona//DibaCMS//EN
BEGIN:VEVENT
UID:5483
DTSTAMP:20260423T091809
DTSTART:20121026T000000
DTEND:20131026T000000
SUMMARY:Diumenge, acte de presentació de tots els equips del Club Esportiu La Llagosta
LOCATION:
METHOD:PUBLISH
X-WR-CALNAME:llagosta@llagosta.cat
X-WR-TIMEZONE:Europe/Madrid
DESCRIPTION:El Club Esportiu La Llagosta farà diumenge la presentació dels equips de l'entitat. L'acte començarà a les quatre de la tarda al Camp Municipal de Futbol Joan Gelabert.
URI:https://www.llagosta.cat/actualitat/noticies/diumenge-acte-de-presentacio-de-tots-els-equips-del-club-esportiu-la-llagosta.html
CLASS:PUBLIC
END:VEVENT
END:VCALENDAR
