BEGIN:VCALENDAR
VERSION:2.0
CALSCALE:GREGORIAN
PRODID:-//Diputació de Barcelona//DibaCMS//EN
BEGIN:VEVENT
UID:5482
DTSTAMP:20260423T073748
DTSTART:20121026T000000
DTEND:20131026T000000
SUMMARY:L'Ajuntament aprova una rebaixa del 7,75% del rebut de les escombraries de 2013
LOCATION:
METHOD:PUBLISH
X-WR-CALNAME:llagosta@llagosta.cat
X-WR-TIMEZONE:Europe/Madrid
DESCRIPTION:L’Ajuntament de la Llagosta va aprovar ahir, durant el ple ordinari del mes d'octubre, les ordenances fiscals de 2013 amb el vot a favor dels grups de l'equip de govern (ICV-EUiA, CiU i CPLL) i del PP i amb l'abstenció del PSC. El rebut de les escombraries es reduirà l'any que ve un 7,75% gràcies al contracte signat amb l’empresa que s’encarregarà a partir de l'1 de novembre de la recollida d’escombraries, SERSA, i a la menor producció de residus a conseqüència de la crisi.
URI:https://www.llagosta.cat/actualitat/noticies/lajuntament-aprova-una-rebaixa-del-775-del-rebut-de-les-escombraries-de-2013.html
CLASS:PUBLIC
END:VEVENT
END:VCALENDAR
