BEGIN:VCALENDAR
VERSION:2.0
CALSCALE:GREGORIAN
PRODID:-//Diputació de Barcelona//DibaCMS//EN
BEGIN:VEVENT
UID:5481
DTSTAMP:20260423T144813
DTSTART:20121025T000000
DTEND:20131025T000000
SUMMARY:Un grup de joves llagostencs realitzaran diumenge un grafit sobre la Castanyada
LOCATION:
METHOD:PUBLISH
X-WR-CALNAME:llagosta@llagosta.cat
X-WR-TIMEZONE:Europe/Madrid
DESCRIPTION:Un grup de joves de la nostra localitat realitzaran diumenge un grafit amb motiu de la Castanyada. El lloc escollit per fer aquesta obra és el pas sota la C-17 que dóna accés al cementiri i al pàrquing de camions.
URI:https://www.llagosta.cat/actualitat/noticies/un-grup-de-joves-llagostencs-realitzaran-diumenge-un-grafit-sobre-la-castanyada.html
CLASS:PUBLIC
END:VEVENT
END:VCALENDAR
