BEGIN:VCALENDAR
VERSION:2.0
CALSCALE:GREGORIAN
PRODID:-//Diputació de Barcelona//DibaCMS//EN
BEGIN:VEVENT
UID:5480
DTSTAMP:20260423T220602
DTSTART:20121025T000000
DTEND:20131025T000000
SUMMARY:El Vallag derrota el Sant Joan Despí B per 29 a 27 i es manté en primera posició
LOCATION:
METHOD:PUBLISH
X-WR-CALNAME:llagosta@llagosta.cat
X-WR-TIMEZONE:Europe/Madrid
DESCRIPTION:El sènior de l'Handbol Club Vallag continua liderant en solitari la competició després de derrotar per un ajustat 29 a 27 el Sant Joan Despí B. Els llagostencs han guanyat els quatre partits disputats aquesta temporada.
URI:https://www.llagosta.cat/actualitat/noticies/el-vallag-derrota-el-sant-joan-despi-b-per-29-a-27-i-es-mante-en-primera-posicio.html
CLASS:PUBLIC
END:VEVENT
END:VCALENDAR
