BEGIN:VCALENDAR
VERSION:2.0
CALSCALE:GREGORIAN
PRODID:-//Diputació de Barcelona//DibaCMS//EN
BEGIN:VEVENT
UID:5479
DTSTAMP:20260423T220840
DTSTART:20121025T000000
DTEND:20131025T000000
SUMMARY:El sènior de l'EBC guanya a la pista del Círcol Catòlic de Badalona B (75-81)
LOCATION:
METHOD:PUBLISH
X-WR-CALNAME:llagosta@llagosta.cat
X-WR-TIMEZONE:Europe/Madrid
DESCRIPTION:El sènior de l'Esportiu Bàsquet Club de la Llagosta va vèncer la jornada passada el  Círcol Catòlic de Badalona B per 75 a 81. Els llagostencs han sumat així la quarta victòria de la temporada i se situen en cinquena posició.
URI:https://www.llagosta.cat/actualitat/noticies/el-senior-de-lebc-guanya-a-la-pista-del-circol-catolic-de-badalona-b-75-81.html
CLASS:PUBLIC
END:VEVENT
END:VCALENDAR
