BEGIN:VCALENDAR
VERSION:2.0
CALSCALE:GREGORIAN
PRODID:-//Diputació de Barcelona//DibaCMS//EN
BEGIN:VEVENT
UID:5478
DTSTAMP:20260423T130408
DTSTART:20121025T000000
DTEND:20131025T000000
SUMMARY:L'Ajuntament aprovarà avui les ordenances fiscals del 2013 en el ple ordinari d'octubre
LOCATION:
METHOD:PUBLISH
X-WR-CALNAME:llagosta@llagosta.cat
X-WR-TIMEZONE:Europe/Madrid
DESCRIPTION:L'Ajuntament aprovarà aquesta tarda, durant el ple ordinari del mes d’octubre, les ordenances fiscals de 2013. La sessió començarà a les set de la tarda. La principal novetat és que el rebut de les escombraries es reduirà un 7,75%. Això serà possible gràcies al contracte signat amb l’empresa que s’encarregarà a partir d’ara de la recollida d’escombraries, SERSA, i a la menor producció de residus a conseqüència de la crisi.
URI:https://www.llagosta.cat/actualitat/noticies/lajuntament-aprovara-avui-les-ordenances-fiscals-del-2013-en-el-ple-ordinari-doctubre.html
CLASS:PUBLIC
END:VEVENT
END:VCALENDAR
