BEGIN:VCALENDAR
VERSION:2.0
CALSCALE:GREGORIAN
PRODID:-//Diputació de Barcelona//DibaCMS//EN
BEGIN:VEVENT
UID:5477
DTSTAMP:20260424T053742
DTSTART:20121024T000000
DTEND:20131024T000000
SUMMARY:El Centre Cultural acollirà diumenge l'homenatge pòstum a Doña Antonia
LOCATION:
METHOD:PUBLISH
X-WR-CALNAME:llagosta@llagosta.cat
X-WR-TIMEZONE:Europe/Madrid
DESCRIPTION:Una cinquantena de persones ja s'han inscrit per participar a l'homenatge pòstum a Antonia González, Doña Antonia, que es farà diumenge al Centre Cultural. Doña Antonia va ser la primera professora permanent que va tenir la Llagosta.
URI:https://www.llagosta.cat/actualitat/noticies/el-centre-cultural-acollira-diumenge-lhomenatge-postum-a-dona-antonia.html
CLASS:PUBLIC
END:VEVENT
END:VCALENDAR
