BEGIN:VCALENDAR
VERSION:2.0
CALSCALE:GREGORIAN
PRODID:-//Diputació de Barcelona//DibaCMS//EN
BEGIN:VEVENT
UID:5476
DTSTAMP:20260423T235916
DTSTART:20121024T000000
DTEND:20131024T000000
SUMMARY:La Colla Gegantera participarà diumenge en la Trobada de Sant Joan de Vilatorrada
LOCATION:
METHOD:PUBLISH
X-WR-CALNAME:llagosta@llagosta.cat
X-WR-TIMEZONE:Europe/Madrid
DESCRIPTION:La Colla Gegantera de la Llagosta es desplaçarà diumenge a Sant Joan de Vilatorrada per participar en la celebració dels trenta anys dels gegants d'aquesta localitat. La intenció de l'entitat és anar amb els tres gegants de la nostra població, sempre que hi hagi un nombre suficient d'acompanyants. 
URI:https://www.llagosta.cat/actualitat/noticies/la-colla-gegantera-participara-diumenge-en-la-trobada-de-sant-joan-de-vilatorrada.html
CLASS:PUBLIC
END:VEVENT
END:VCALENDAR
