BEGIN:VCALENDAR
VERSION:2.0
CALSCALE:GREGORIAN
PRODID:-//Diputació de Barcelona//DibaCMS//EN
BEGIN:VEVENT
UID:5475
DTSTAMP:20260423T093534
DTSTART:20121024T000000
DTEND:20131024T000000
SUMMARY:El Joventut Handbol, primer líder del seu grup en derrotar l'Agramunt B per 43 a 17
LOCATION:
METHOD:PUBLISH
X-WR-CALNAME:llagosta@llagosta.cat
X-WR-TIMEZONE:Europe/Madrid
DESCRIPTION:El Joventut Handbol La Llagosta va debutar a la Tercera Catalana amb una victòria àmplia i contundent davant de l'Agramunt B. Els llagostencs van vèncer per 43 a 17 i comencen la lliga ocupant el primer lloc a la taula.
URI:https://www.llagosta.cat/actualitat/noticies/el-joventut-handbol-primer-lider-del-seu-grup-en-derrotar-lagramunt-b-per-43-a-17.html
CLASS:PUBLIC
END:VEVENT
END:VCALENDAR
