BEGIN:VCALENDAR
VERSION:2.0
CALSCALE:GREGORIAN
PRODID:-//Diputació de Barcelona//DibaCMS//EN
BEGIN:VEVENT
UID:5474
DTSTAMP:20260423T034709
DTSTART:20121024T000000
DTEND:20131024T000000
SUMMARY:El Viejas Glorias derrota el Badia per 1 a 0 amb un gol de Luis i es manté en sisena posició
LOCATION:
METHOD:PUBLISH
X-WR-CALNAME:llagosta@llagosta.cat
X-WR-TIMEZONE:Europe/Madrid
DESCRIPTION:El Club Deportivo Viejas Glorias va guanyar dissabte per 1 a 0 el Badia. Els llagostencs van començar bé, generant ocasions de gol, però el porter visitant va estar molt encertat. El Badia va crear també alguna oportunitat i Baeza va respondre molt bé. El porter del conjunt llagostenc va fer un gran partit.
URI:https://www.llagosta.cat/actualitat/noticies/el-viejas-glorias-derrota-el-badia-per-1-a-0-amb-un-gol-de-luis-i-es-mante-en-sisena-posicio.html
CLASS:PUBLIC
END:VEVENT
END:VCALENDAR
