BEGIN:VCALENDAR
VERSION:2.0
CALSCALE:GREGORIAN
PRODID:-//Diputació de Barcelona//DibaCMS//EN
BEGIN:VEVENT
UID:5473
DTSTAMP:20260424T094720
DTSTART:20121024T000000
DTEND:20131023T000000
SUMMARY:L'alcalde de la Llagosta serà entrevistat aquest vespre a Vallès Visió
LOCATION:
METHOD:PUBLISH
X-WR-CALNAME:llagosta@llagosta.cat
X-WR-TIMEZONE:Europe/Madrid
DESCRIPTION:El programa Parlem-ne, de Vallès Visió, va entrevistar ahir l'alcalde de la Llagosta, Alberto López, sobre diversos temes d'actualitat local. 
Veure vídeo.
URI:https://www.llagosta.cat/actualitat/noticies/14-04-2015-lalcalde-de-la-llagosta-sera-entrevistat-aquest-vespre-a-valles-visio.html
CLASS:PUBLIC
END:VEVENT
END:VCALENDAR
