BEGIN:VCALENDAR
VERSION:2.0
CALSCALE:GREGORIAN
PRODID:-//Diputació de Barcelona//DibaCMS//EN
BEGIN:VEVENT
UID:5472
DTSTAMP:20260423T113729
DTSTART:20121023T000000
DTEND:20131012T000000
SUMMARY:SERSA s'encarregarà des de l'1 de novembre de la recollida d'escombraries i neteja viària
LOCATION:
METHOD:PUBLISH
X-WR-CALNAME:llagosta@llagosta.cat
X-WR-TIMEZONE:Europe/Madrid
DESCRIPTION:A partir de l'1 de novembre, la neteja viària i la recollida d'escombraries a la Llagosta aniran a càrrec de l'empresa SERSA. La nova concessió del servei es va aprovar al ple extraordinari celebrat el setembre i tindrà una durada de vuit anys, prorrogable a dos més.
URI:https://www.llagosta.cat/actualitat/noticies/sersa-sencarregara-des-de-l1-de-novembre-de-la-recollida-descombraries-i-neteja-viaria.html
CLASS:PUBLIC
END:VEVENT
END:VCALENDAR
