BEGIN:VCALENDAR
VERSION:2.0
CALSCALE:GREGORIAN
PRODID:-//Diputació de Barcelona//DibaCMS//EN
BEGIN:VEVENT
UID:5471
DTSTAMP:20260425T131217
DTSTART:20121023T000000
DTEND:20131023T000000
SUMMARY:El Club Deportivo La Concòrdia empata (3-3) a la pista del líder, l'AECS l'Hospitalet
LOCATION:
METHOD:PUBLISH
X-WR-CALNAME:llagosta@llagosta.cat
X-WR-TIMEZONE:Europe/Madrid
DESCRIPTION:Els dos primers classificats de la Divisió d'Honor Catalana de Futbol Sala Femení, el Club Deportivo La Concòrdia i l'AECS l'Hospitalet, van empatar a tres el partit que van disputar la jornada passada. Així, la classificació continua igual i els dos equips segueixen invictes.
URI:https://www.llagosta.cat/actualitat/noticies/el-club-deportivo-la-concordia-empata-3-3-a-la-pista-del-lider-laecs-lhospitalet.html
CLASS:PUBLIC
END:VEVENT
END:VCALENDAR
