BEGIN:VCALENDAR
VERSION:2.0
CALSCALE:GREGORIAN
PRODID:-//Diputació de Barcelona//DibaCMS//EN
BEGIN:VEVENT
UID:5470
DTSTAMP:20260423T144708
DTSTART:20121023T000000
DTEND:20131023T000000
SUMMARY:Una agent de la Policia Local de la Llagosta, al nou curs de l'Escola de Policia de Catalunya
LOCATION:
METHOD:PUBLISH
X-WR-CALNAME:llagosta@llagosta.cat
X-WR-TIMEZONE:Europe/Madrid
DESCRIPTION:Una agent de la Policia Local de la Llagosta assisteix al curs bàsic de l'Escola de Policia de Catalunya 2012-2013. Ahir es va fer l'acte oficial de presentació a l'Institut de Seguretat Pública de Catalunya al qual va assistir el cap de la Policia Local de la Llagosta, Santiago Villalba.
URI:https://www.llagosta.cat/actualitat/noticies/una-agent-de-la-policia-local-de-la-llagosta-al-nou-curs-de-lescola-de-policia-de-catalunya.html
CLASS:PUBLIC
END:VEVENT
END:VCALENDAR
