BEGIN:VCALENDAR
VERSION:2.0
CALSCALE:GREGORIAN
PRODID:-//Diputació de Barcelona//DibaCMS//EN
BEGIN:VEVENT
UID:5469
DTSTAMP:20260423T201827
DTSTART:20121023T000000
DTEND:20131023T000000
SUMMARY:Luna Sierra Pardo, tercera al sete Open Nacional de Taekwondo Ciutat de Benicàssim
LOCATION:
METHOD:PUBLISH
X-WR-CALNAME:llagosta@llagosta.cat
X-WR-TIMEZONE:Europe/Madrid
DESCRIPTION:La llagostenca Luna Sierra Pardo ha obtingut la medalla de bronze al setè Open Nacional de Taekwondo Ciutat de Benicàssim. Sierra va lluitar a la categoria sènior. La competició es va celebrar dissabte.
URI:https://www.llagosta.cat/actualitat/noticies/luna-sierra-pardo-tercera-al-sete-open-nacional-de-taekwondo-ciutat-de-benicassim.html
CLASS:PUBLIC
END:VEVENT
END:VCALENDAR
