BEGIN:VCALENDAR
VERSION:2.0
CALSCALE:GREGORIAN
PRODID:-//Diputació de Barcelona//DibaCMS//EN
BEGIN:VEVENT
UID:5468
DTSTAMP:20260423T125355
DTSTART:20121022T000000
DTEND:20131022T000000
SUMMARY:Una cinquantena de gossos van participar ahir al desè concurs caní de la Llagosta
LOCATION:
METHOD:PUBLISH
X-WR-CALNAME:llagosta@llagosta.cat
X-WR-TIMEZONE:Europe/Madrid
DESCRIPTION:El Parc Popular de la Llagosta va acollir ahir la desena edició del concurs i exposició canins de la Llagosta. Una cinquantena de gossos van participar en aquesta activitat, que es va desenvolupar durant tot el matí.
URI:https://www.llagosta.cat/actualitat/noticies/una-cinquantena-de-gossos-van-participar-ahir-al-dese-concurs-cani-de-la-llagosta.html
CLASS:PUBLIC
END:VEVENT
END:VCALENDAR
