BEGIN:VCALENDAR
VERSION:2.0
CALSCALE:GREGORIAN
PRODID:-//Diputació de Barcelona//DibaCMS//EN
BEGIN:VEVENT
UID:5467
DTSTAMP:20260423T130316
DTSTART:20121022T000000
DTEND:20131022T000000
SUMMARY:El Fútbol Sala Unión Llagostense suma la quarta victòria de la temporada contra el Gavà
LOCATION:
METHOD:PUBLISH
X-WR-CALNAME:llagosta@llagosta.cat
X-WR-TIMEZONE:Europe/Madrid
DESCRIPTION:El Fútbol Sala Unión Llagostense va guanyar el cap de setmana el Gavà per 7 a 3. Els de José Manuel Poyato no van tenir cap problema per aconseguir la quarta victòria de la temporada. 
URI:https://www.llagosta.cat/actualitat/noticies/el-futbol-sala-union-llagostense-suma-la-quarta-victoria-de-la-temporada-contra-el-gava.html
CLASS:PUBLIC
END:VEVENT
END:VCALENDAR
