BEGIN:VCALENDAR
VERSION:2.0
CALSCALE:GREGORIAN
PRODID:-//Diputació de Barcelona//DibaCMS//EN
BEGIN:VEVENT
UID:5466
DTSTAMP:20260423T150239
DTSTART:20121022T000000
DTEND:20131022T000000
SUMMARY:El Complex Esportiu Municipal El Turó va reobrir dissabte amb total normalitat
LOCATION:
METHOD:PUBLISH
X-WR-CALNAME:llagosta@llagosta.cat
X-WR-TIMEZONE:Europe/Madrid
DESCRIPTION:El Complex Esportiu Municipal El Turó de la Llagosta va reobrir les seves portes dissabte amb tota normalitat i amb tots els serveis funcionant al 100%. La sala de musculació es troba ubicada ara en un altre espai amb més llum natural. Dissabte, van començar també els cursets de natació.
URI:https://www.llagosta.cat/actualitat/noticies/el-complex-esportiu-municipal-el-turo-va-reobrir-dissabte-amb-total-normalitat.html
CLASS:PUBLIC
END:VEVENT
END:VCALENDAR
