BEGIN:VCALENDAR
VERSION:2.0
CALSCALE:GREGORIAN
PRODID:-//Diputació de Barcelona//DibaCMS//EN
BEGIN:VEVENT
UID:5465
DTSTAMP:20260423T073248
DTSTART:20121019T000000
DTEND:20131019T000000
SUMMARY:Demà, Diada del Soci de l'Agrupació Sardanista de la Llagosta
LOCATION:
METHOD:PUBLISH
X-WR-CALNAME:llagosta@llagosta.cat
X-WR-TIMEZONE:Europe/Madrid
DESCRIPTION:L'Agrupació Sardanista de la Llagosta celebrarà demà la seva Diada del Soci. L'activitat tindrà lloc a la seu de la Fundació Agrària i Cultural, al número 27 del carrer de Sant Josep, a partir de dos quarts de set de la tarda. 
URI:https://www.llagosta.cat/actualitat/noticies/dema-diada-del-soci-de-lagrupacio-sardanista-de-la-llagosta.html
CLASS:PUBLIC
END:VEVENT
END:VCALENDAR
