BEGIN:VCALENDAR
VERSION:2.0
CALSCALE:GREGORIAN
PRODID:-//Diputació de Barcelona//DibaCMS//EN
BEGIN:VEVENT
UID:5464
DTSTAMP:20260423T033324
DTSTART:20121019T000000
DTEND:20131019T000000
SUMMARY:La Casa de Andalucía de la Llagosta celebrarà demà un intercanvi cultural
LOCATION:
METHOD:PUBLISH
X-WR-CALNAME:llagosta@llagosta.cat
X-WR-TIMEZONE:Europe/Madrid
DESCRIPTION:El Centre Cultural acollirà demà un nou intercanvi cultural organitzat per la Casa de Andalucía de la Llagosta. L'acte començarà a les nou del vespre i comptarà amb la participació de dues entitats convidades.
URI:https://www.llagosta.cat/actualitat/noticies/la-casa-de-andalucia-de-la-llagosta-celebrara-dema-un-intercanvi-cultural.html
CLASS:PUBLIC
END:VEVENT
END:VCALENDAR
