BEGIN:VCALENDAR
VERSION:2.0
CALSCALE:GREGORIAN
PRODID:-//Diputació de Barcelona//DibaCMS//EN
BEGIN:VEVENT
UID:5463
DTSTAMP:20260423T151448
DTSTART:20121019T000000
DTEND:20131019T000000
SUMMARY:El sènior del Joventut Handbol debuta a la lliga demà contra l'Agramunt B
LOCATION:
METHOD:PUBLISH
X-WR-CALNAME:llagosta@llagosta.cat
X-WR-TIMEZONE:Europe/Madrid
DESCRIPTION:El Joventut Handbol La Llagosta jugarà demà el primer partit de la temporada. Els de la nostra localitat rebran la visita de l'Agramunt B. El partit es disputarà a partir de dos quarts de vuit del vespre al Poliesportiu Riera Seca.
URI:https://www.llagosta.cat/actualitat/noticies/el-senior-del-joventut-handbol-debuta-a-la-lliga-dema-contra-lagramunt-b.html
CLASS:PUBLIC
END:VEVENT
END:VCALENDAR
