BEGIN:VCALENDAR
VERSION:2.0
CALSCALE:GREGORIAN
PRODID:-//Diputació de Barcelona//DibaCMS//EN
BEGIN:VEVENT
UID:5462
DTSTAMP:20260423T220801
DTSTART:20121019T000000
DTEND:20131019T000000
SUMMARY:Diumenge, se celebrarà a la Llagosta la desena edició de l'exposició canina
LOCATION:
METHOD:PUBLISH
X-WR-CALNAME:llagosta@llagosta.cat
X-WR-TIMEZONE:Europe/Madrid
DESCRIPTION:El Parc Popular de la Llagosta acollirà diumenge un nou concurs i exposició canins. L'activitat començarà a dos quarts de deu del matí amb les inscripcions dels gossos participants. L'activitat és organitzada per la Reial Societat Canina de Catalunya i l'Ajuntament de la Llagosta. 
URI:https://www.llagosta.cat/actualitat/noticies/diumenge-se-celebrara-a-la-llagosta-la-desena-edicio-de-lexposicio-canina.html
CLASS:PUBLIC
END:VEVENT
END:VCALENDAR
