BEGIN:VCALENDAR
VERSION:2.0
CALSCALE:GREGORIAN
PRODID:-//Diputació de Barcelona//DibaCMS//EN
BEGIN:VEVENT
UID:5461
DTSTAMP:20260424T033526
DTSTART:20121019T000000
DTEND:20131019T000000
SUMMARY:Empleats de l'Ajuntament de la Llagosta es concentren en contra de les retallades
LOCATION:
METHOD:PUBLISH
X-WR-CALNAME:llagosta@llagosta.cat
X-WR-TIMEZONE:Europe/Madrid
DESCRIPTION:Treballadors de l'Ajuntament de la Llagosta han portat a terme aquest matí un nou acte de protesta a les portes del Consistori en contra de les retallades que estan aplicant els governs central i autonòmic. Els empleats municipals s'han concentrat a les deu del matí durant deu minuts i han mostrat una pancarta en la qual es podia llegir Prou retallades. 
URI:https://www.llagosta.cat/actualitat/noticies/empleats-de-lajuntament-de-la-llagosta-es-concentren-en-contra-de-les-retallades.html
CLASS:PUBLIC
END:VEVENT
END:VCALENDAR
