BEGIN:VCALENDAR
VERSION:2.0
CALSCALE:GREGORIAN
PRODID:-//Diputació de Barcelona//DibaCMS//EN
BEGIN:VEVENT
UID:5460
DTSTAMP:20260423T170012
DTSTART:20121019T000000
DTEND:20131019T000000
SUMMARY:Antonio García és convocat novament amb la selecció espanyola absoluta d'handbol
LOCATION:
METHOD:PUBLISH
X-WR-CALNAME:llagosta@llagosta.cat
X-WR-TIMEZONE:Europe/Madrid
DESCRIPTION:El llagostenc Antonio García ha estat convocat pel seleccionador espanyol absolut d'handbol, Valero Rivera, per tal de disputar els dos primers partits de classificació del Campionat d'Europa de 2014. L'esportista de la nostra localitat torna a la selecció espanyola després de patir una lesió quan estava concentrat preparant la seva participació als Jocs Olímpics de Londres. 
URI:https://www.llagosta.cat/actualitat/noticies/antonio-garcia-es-convocat-novament-amb-la-seleccio-espanyola-absoluta-dhandbol.html
CLASS:PUBLIC
END:VEVENT
END:VCALENDAR
