BEGIN:VCALENDAR
VERSION:2.0
CALSCALE:GREGORIAN
PRODID:-//Diputació de Barcelona//DibaCMS//EN
BEGIN:VEVENT
UID:5459
DTSTAMP:20260424T034026
DTSTART:20121018T000000
DTEND:20131018T000000
SUMMARY:Suspès temporalment el desallotjament de la masia de Can Piella
LOCATION:
METHOD:PUBLISH
X-WR-CALNAME:llagosta@llagosta.cat
X-WR-TIMEZONE:Europe/Madrid
DESCRIPTION:Els ocupants de la masia de Can Piella han aconseguit la suspensió temporal de l'ordre de desallotjament d'aquesta casa, situada al terme municipal de Montcada i Reixac però molt a prop de la Llagosta. El Jutjat número 3 de Cerdanyola ha pres aquesta decisió fins que no es resolgui el recurs que han presentat els membres de l'associació que des de fa uns anys fa diverses activitats a Can Piella.
URI:https://www.llagosta.cat/actualitat/noticies/suspes-temporalment-el-desallotjament-de-la-masia-de-can-piella.html
CLASS:PUBLIC
END:VEVENT
END:VCALENDAR
