BEGIN:VCALENDAR
VERSION:2.0
CALSCALE:GREGORIAN
PRODID:-//Diputació de Barcelona//DibaCMS//EN
BEGIN:VEVENT
UID:5458
DTSTAMP:20260423T222446
DTSTART:20121018T000000
DTEND:20131018T000000
SUMMARY:El conjunt sènior de l'EBC aconsegueix la tercera victòria en derrotar el Montmeló
LOCATION:
METHOD:PUBLISH
X-WR-CALNAME:llagosta@llagosta.cat
X-WR-TIMEZONE:Europe/Madrid
DESCRIPTION:El sènior de l'Esportiu Bàsquet Club de la Llagosta va guanyar la jornada passada el Montmeló per 79 a 50. Els de la nostra localitat visitaran el cap de setmana la pista del Círcol Catòlic de Badalona B.
URI:https://www.llagosta.cat/actualitat/noticies/el-conjunt-senior-de-lebc-aconsegueix-la-tercera-victoria-en-derrotar-el-montmelo.html
CLASS:PUBLIC
END:VEVENT
END:VCALENDAR
