BEGIN:VCALENDAR
VERSION:2.0
CALSCALE:GREGORIAN
PRODID:-//Diputació de Barcelona//DibaCMS//EN
BEGIN:VEVENT
UID:5457
DTSTAMP:20260424T020718
DTSTART:20121018T000000
DTEND:20131017T000000
SUMMARY:El Complex Esportiu Municipal El Turó reobrirà les seves portes el proper dissabte
LOCATION:
METHOD:PUBLISH
X-WR-CALNAME:llagosta@llagosta.cat
X-WR-TIMEZONE:Europe/Madrid
DESCRIPTION:El Complex Esportiu Municipal El Turó reobrirà les seves portes el proper dissabte 20 d'octubre després dels treballs de neteja, control sanitari, pintura i revisió de la instal·lació elèctrica que s'han dut a terme aprofitant la regularització interna d'aquest servei públic. El Turó obrirà de dilluns a divendres de les 7 a les 22 hores; els dissabtes de 9 a 21 hores; i els diumenges de 9 a 14 hores. 
URI:https://www.llagosta.cat/actualitat/noticies/el-complex-esportiu-municipal-el-turo-reobrira-les-seves-portes-el-proper-dissabte.html
CLASS:PUBLIC
END:VEVENT
END:VCALENDAR
