BEGIN:VCALENDAR
VERSION:2.0
CALSCALE:GREGORIAN
PRODID:-//Diputació de Barcelona//DibaCMS//EN
BEGIN:VEVENT
UID:5456
DTSTAMP:20260423T220525
DTSTART:20121017T000000
DTEND:20131017T000000
SUMMARY:Les AMPA de la Llagosta organitzaran el dia 1 de desembre el segon Mercat solidari
LOCATION:
METHOD:PUBLISH
X-WR-CALNAME:llagosta@llagosta.cat
X-WR-TIMEZONE:Europe/Madrid
DESCRIPTION:Les Associacions de Mares i Pares d'Alumnes (AMPA) dels centres educatius de la Llagosta organitzaran el dia 1 de desembre la segona edició del Mercat solidari amb l'objectiu de recaptar diners per a la Marató de TV3. Durant tota la jornada, es posaran a la venda diversos productes a un preu simbòlic. El Mercat solidari es desenvoluparà a la plaça d'Antoni Baqué.
URI:https://www.llagosta.cat/actualitat/noticies/les-ampa-de-la-llagosta-organitzaran-el-dia-1-de-desembre-el-segon-mercat-solidari.html
CLASS:PUBLIC
END:VEVENT
END:VCALENDAR
