BEGIN:VCALENDAR
VERSION:2.0
CALSCALE:GREGORIAN
PRODID:-//Diputació de Barcelona//DibaCMS//EN
BEGIN:VEVENT
UID:5455
DTSTAMP:20260423T152547
DTSTART:20121017T000000
DTEND:20131017T000000
SUMMARY:La Concòrdia jugarà dissabte a la pista de l'AECS l'Hospitalet amb el liderat en joc
LOCATION:
METHOD:PUBLISH
X-WR-CALNAME:llagosta@llagosta.cat
X-WR-TIMEZONE:Europe/Madrid
DESCRIPTION:El sènior del Club Deportivo La Concòrdia jugarà dissabte a la pista de l'AECS l'Hospitalet després de la jornada de descans del cap de setmana passat. En aquest partit s'enfrontaran els dos primers classificats, que són els dos únics equips del grup que han guanyat els tres partits que han disputat. 
URI:https://www.llagosta.cat/actualitat/noticies/la-concordia-jugara-dissabte-a-la-pista-de-laecs-lhospitalet-amb-el-liderat-en-joc.html
CLASS:PUBLIC
END:VEVENT
END:VCALENDAR
